BEGIN:VCALENDAR
VERSION:2.0
PRODID:-//Plan B - ECPv6.15.20//NONSGML v1.0//EN
CALSCALE:GREGORIAN
METHOD:PUBLISH
X-ORIGINAL-URL:https://asso-plan-b.fr
X-WR-CALDESC:Évènements pour Plan B
REFRESH-INTERVAL;VALUE=DURATION:PT1H
X-Robots-Tag:noindex
X-PUBLISHED-TTL:PT1H
BEGIN:VTIMEZONE
TZID:Europe/Paris
BEGIN:DAYLIGHT
TZOFFSETFROM:+0100
TZOFFSETTO:+0200
TZNAME:CEST
DTSTART:20220327T010000
END:DAYLIGHT
BEGIN:STANDARD
TZOFFSETFROM:+0200
TZOFFSETTO:+0100
TZNAME:CET
DTSTART:20221030T010000
END:STANDARD
BEGIN:DAYLIGHT
TZOFFSETFROM:+0100
TZOFFSETTO:+0200
TZNAME:CEST
DTSTART:20230326T010000
END:DAYLIGHT
BEGIN:STANDARD
TZOFFSETFROM:+0200
TZOFFSETTO:+0100
TZNAME:CET
DTSTART:20231029T010000
END:STANDARD
BEGIN:DAYLIGHT
TZOFFSETFROM:+0100
TZOFFSETTO:+0200
TZNAME:CEST
DTSTART:20240331T010000
END:DAYLIGHT
BEGIN:STANDARD
TZOFFSETFROM:+0200
TZOFFSETTO:+0100
TZNAME:CET
DTSTART:20241027T010000
END:STANDARD
END:VTIMEZONE
BEGIN:VEVENT
DTSTART;VALUE=DATE:20230831
DTEND;VALUE=DATE:20230901
DTSTAMP:20260424T235337
CREATED:20230807T181205Z
LAST-MODIFIED:20230807T181205Z
UID:2065-1693440000-1693526399@asso-plan-b.fr
SUMMARY:Formation pour le SIJ 29
DESCRIPTION:Plan B interviendra auprès des professionnel·le· du réseau Information Jeunesse du Finistère. \nL’objectif est de permettre d’avoir un socle commun de formation et monter en compétences sur la thématique de l’égalité femmes-hommes\, des stéréotypes de genres\, du sexisme ordinaire et des discriminations liées au genre ou à l’orientation sexuelle. \n 
URL:https://asso-plan-b.fr/event/formation-pour-le-sij-29/
LOCATION:Chateaulin\, Quimill\, Châteaulin\, 29150\, France
ORGANIZER;CN="Association Plan B":MAILTO:contact@asso-plan-b.fr
END:VEVENT
END:VCALENDAR